BEGIN:VCALENDAR
VERSION:2.0
PRODID:marco-mantovanelli.de
METHOD:PUBLISH
BEGIN:VTIMEZONE
TZID:Europe/Berlin
X-LIC-LOCATION:Europe/Berlin
BEGIN:DAYLIGHT
TZOFFSETFROM:+0100
TZOFFSETTO:+0200
TZNAME:CEST
DTSTART:19700329T020000
RRULE:FREQ=YEARLY;INTERVAL=1;BYDAY=-1SU;BYMONTH=3
END:DAYLIGHT
BEGIN:STANDARD
TZOFFSETFROM:+0200
TZOFFSETTO:+0100
TZNAME:CET
DTSTART:19701025T030000
RRULE:FREQ=YEARLY;INTERVAL=1;BYDAY=-1SU;BYMONTH=10
END:STANDARD
END:VTIMEZONE
BEGIN:VEVENT
UID:3d5de8fc6346a10cc0f4a6480cdcf28c@marco-mantovanelli.de
URL;VALUE=URI:https://marco-mantovanelli.de/termine/wahlkampf-kick-off/
LOCATION:GRÜNES Büro Gütersloh, Blessenstätte 23a, 33330 Gütersloh
SUMMARY:Wahlkampf-Kick-off!
DESCRIPTION;ALTREP="data:text/html,":
CLASS:PUBLIC
DTSTART;TZID=Europe/Berlin:20250802T100000
DTEND;TZID=Europe/Berlin:20250802T110000
DTSTAMP:20260421T093342
END:VEVENT
END:VCALENDAR