BEGIN:VCALENDAR
VERSION:2.0
PRODID:marco-mantovanelli.de
METHOD:PUBLISH
BEGIN:VTIMEZONE
TZID:Europe/Berlin
X-LIC-LOCATION:Europe/Berlin
BEGIN:DAYLIGHT
TZOFFSETFROM:+0100
TZOFFSETTO:+0200
TZNAME:CEST
DTSTART:19700329T020000
RRULE:FREQ=YEARLY;INTERVAL=1;BYDAY=-1SU;BYMONTH=3
END:DAYLIGHT
BEGIN:STANDARD
TZOFFSETFROM:+0200
TZOFFSETTO:+0100
TZNAME:CET
DTSTART:19701025T030000
RRULE:FREQ=YEARLY;INTERVAL=1;BYDAY=-1SU;BYMONTH=10
END:STANDARD
END:VTIMEZONE
BEGIN:VEVENT
UID:492503804cfd618e3f7fabbf6104e9d2@marco-mantovanelli.de
URL;VALUE=URI:https://marco-mantovanelli.de/termine/infostand-auf-dem-mar
 kt-in-herzebrock-clarholz/
LOCATION:Paul-Craemer-Platz, 33442 Herzebrock-Clarholz
SUMMARY:Infostand auf dem Markt in Herzebrock-Clarholz
DESCRIPTION;ALTREP="data:text/html,":
CLASS:PUBLIC
DTSTART;TZID=Europe/Berlin:20250822T100000
DTEND;TZID=Europe/Berlin:20250822T113000
DTSTAMP:20260423T101913
END:VEVENT
END:VCALENDAR