BEGIN:VCALENDAR
VERSION:2.0
PRODID:marco-mantovanelli.de
METHOD:PUBLISH
BEGIN:VTIMEZONE
TZID:Europe/Berlin
X-LIC-LOCATION:Europe/Berlin
BEGIN:DAYLIGHT
TZOFFSETFROM:+0100
TZOFFSETTO:+0200
TZNAME:CEST
DTSTART:19700329T020000
RRULE:FREQ=YEARLY;INTERVAL=1;BYDAY=-1SU;BYMONTH=3
END:DAYLIGHT
BEGIN:STANDARD
TZOFFSETFROM:+0200
TZOFFSETTO:+0100
TZNAME:CET
DTSTART:19701025T030000
RRULE:FREQ=YEARLY;INTERVAL=1;BYDAY=-1SU;BYMONTH=10
END:STANDARD
END:VTIMEZONE
BEGIN:VEVENT
UID:5af4ca1ec506953a72cca4cb46f10454@marco-mantovanelli.de
URL;VALUE=URI:https://marco-mantovanelli.de/termine/buergerbrunch/
LOCATION:Am alten Kirchplatz, 33330 Gütersloh
SUMMARY:BürgerBrunch der Bürgerstiftung Gütersloh
DESCRIPTION;ALTREP="data:text/html,":
CLASS:PUBLIC
DTSTART;TZID=Europe/Berlin:20250615T110000
DTEND;TZID=Europe/Berlin:20250615T150000
DTSTAMP:20260421T093432
END:VEVENT
END:VCALENDAR